BEGIN:VCALENDAR
VERSION:2.0
PRODID:-//ChamberMaster//Event Calendar 2.0//EN
METHOD:PUBLISH
X-PUBLISHED-TTL:P3D
REFRESH-INTERVAL:P3D
CALSCALE:GREGORIAN
BEGIN:VEVENT
DTSTART:20260404T143000Z
DTEND:20260404T160000Z
X-MICROSOFT-CDO-ALLDAYEVENT:FALSE
SUMMARY:Studio Saturdays: Inner Child Found Art Sculptures
DESCRIPTION:Do you remember losing track of time for hours in play and imagination as a child? Using an assortment of tiny treasures\, create your own sculpture to reflect on what your inner child loves best. Take inspiration from common household items\, recycled materials and one-of-a-kind treasures and enjoy the process of creating something new!\n\nStudio Saturdays is a series of adult art making classes designed to inspire creativity and connection through multimedia arts exploration. Each class includes an arts activity that will inspire collaboration\, curiosity and creativity\, culminating in a completed individual artwork and communal sharing.
X-ALT-DESC;FMTTYPE=text/html:<div>\n<p>Do you remember losing track of time for hours in play and imagination as a child? Using an assortment of tiny treasures\, create your own sculpture to reflect on what your inner child loves best. Take inspiration from common household items\, recycled materials and one-of-a-kind treasures and enjoy the process of creating something new!</p>\n\n<p>Studio Saturdays is a series of adult art making classes designed to inspire creativity and connection through multimedia arts exploration. Each class includes an arts activity that will inspire collaboration\, curiosity and creativity\, culminating in a completed individual artwork and communal sharing.</p>\n\n<div>&nbsp\;</div>\n</div>\n
LOCATION:Peabody Essex Museum 161 Essex St Salem\, MA 01970
UID:e.2160.25012
SEQUENCE:3
DTSTAMP:20260420T190438Z
URL:http://www.salem-chamber.com/events/details/studio-saturdays-inner-child-found-art-sculptures-25012
END:VEVENT

END:VCALENDAR
