BEGIN:VCALENDAR
VERSION:2.0
PRODID:-//ChamberMaster//Event Calendar 2.0//EN
METHOD:PUBLISH
X-PUBLISHED-TTL:P3D
REFRESH-INTERVAL:P3D
CALSCALE:GREGORIAN
BEGIN:VEVENT
DTSTART:20230627T130000Z
DTEND:20230627T150000Z
X-MICROSOFT-CDO-ALLDAYEVENT:FALSE
SUMMARY:Spa Creations
DESCRIPTION:Join The Good Witch of Salem for a three-day "Spa Creation" summer program. Calling all children who love pampering and relaxation! Children will be creating their own soap\, lip gloss\, and sugar scrub. The program ends with sparkly nail manicures\, fancy hair styling\, and a touch of glitter.This workshop is limited to 8 children ages 6+ only\, pre-registration is required. Due to space constraints\, please refrain from bringing in strollers and wagons. Ticket purchase only admits one (1) participating child. Please note: Summer Programs\, Events\, and Workshops are non-refundable at this time.
X-ALT-DESC;FMTTYPE=text/html:Join The Good Witch of Salem for a three-day &ldquo\;Spa Creation&rdquo\; summer program. Calling all children who love pampering and relaxation! Children will be creating their own soap\, lip gloss\, and sugar scrub. The program ends with sparkly nail manicures\, fancy hair styling\, and a touch of glitter.This workshop is limited to 8 children ages 6+ only\, pre-registration is required. Due to space constraints\, please refrain from bringing in strollers and wagons. Ticket purchase only admits one (1) participating child. Please note: Summer Programs\, Events\, and Workshops are non-refundable at this time.
LOCATION:2 North Street\, Salem MA 01970
UID:e.2160.17601
SEQUENCE:3
DTSTAMP:20260425T152043Z
URL:http://www.salem-chamber.com/events/details/spa-creations-17601
END:VEVENT

END:VCALENDAR
