BEGIN:VCALENDAR
VERSION:2.0
PRODID:-//ChamberMaster//Event Calendar 2.0//EN
METHOD:PUBLISH
X-PUBLISHED-TTL:P3D
REFRESH-INTERVAL:P3D
CALSCALE:GREGORIAN
BEGIN:VEVENT
DTSTART:20260423T233000Z
DTEND:20260424T010000Z
X-MICROSOFT-CDO-ALLDAYEVENT:FALSE
SUMMARY:Small Music Ensembles Concert
DESCRIPTION:This program is an eclectic mix of instrumentation\, styles\, and genres. The concert includes performances by the Guitar Ensemble\, Improv Ensemble\, Percussion Ensemble and World Music Ensemble. Admission is free. Goodwill offerings at the door are welcome. The Recital Hall is located on the ground floor of 71 Loring Avenue. Parking is available across the street in the F/C lot.
X-ALT-DESC;FMTTYPE=text/html:This program is an eclectic mix of instrumentation\, styles\, and genres. The concert includes performances by the Guitar Ensemble\, Improv Ensemble\, Percussion Ensemble and World Music Ensemble. Admission is free. Goodwill offerings at the door are welcome. The Recital Hall is located on the ground floor of 71 Loring Avenue. Parking is available across the street in the F/C lot.
LOCATION:
UID:e.2160.26234
SEQUENCE:3
DTSTAMP:20260419T163938Z
URL:http://www.salem-chamber.com/events/details/small-music-ensembles-concert-26234
END:VEVENT

END:VCALENDAR
