BEGIN:VCALENDAR
VERSION:2.0
PRODID:-//ChamberMaster//Event Calendar 2.0//EN
METHOD:PUBLISH
X-PUBLISHED-TTL:P3D
REFRESH-INTERVAL:P3D
CALSCALE:GREGORIAN
BEGIN:VEVENT
DTSTART:20230611T140000Z
DTEND:20230611T150000Z
X-MICROSOFT-CDO-ALLDAYEVENT:FALSE
SUMMARY:Rainbow Kitty Tea Party
DESCRIPTION:Rainbow Kitty Tea Party   June 11\, 2023 Workshop Time: 10:00AM   11:00AM Location: The Good Witch of Salem @ 2 North Street\, Salem MA 01970 Let's celebrate Summer at a "Rainbow Kitty Tea Party"! Children will stuff their own rainbow kitty doll while they sip pink tea and learn about crystal magic! This workshop is limited to 6 children\, pre-registration is required. Please note: Events\, summer programs\, and workshops are non-refundable at this time.
X-ALT-DESC;FMTTYPE=text/html:Rainbow Kitty Tea Party &ndash\; June 11\, 2023 Workshop Time: 10:00AM &ndash\; 11:00AM Location: The Good Witch of Salem @ 2 North Street\, Salem MA 01970 Let&rsquo\;s celebrate Summer at a &ldquo\;Rainbow Kitty Tea Party&rdquo\;! Children will stuff their own rainbow kitty doll while they sip pink tea and learn about crystal magic! This workshop is limited to 6 children\, pre-registration is required. Please note: Events\, summer programs\, and workshops are non-refundable at this time.
LOCATION:The Good Witch of Salem @ 2 North Street\, Salem MA 01970
UID:e.2160.17515
SEQUENCE:3
DTSTAMP:20260425T174446Z
URL:http://www.salem-chamber.com/events/details/rainbow-kitty-tea-party-17515
END:VEVENT

END:VCALENDAR
