BEGIN:VCALENDAR
VERSION:2.0
PRODID:-//ChamberMaster//Event Calendar 2.0//EN
METHOD:PUBLISH
X-PUBLISHED-TTL:P3D
REFRESH-INTERVAL:P3D
CALSCALE:GREGORIAN
BEGIN:VEVENT
DTSTART:20260425T130000Z
DTEND:20260426T220000Z
X-MICROSOFT-CDO-ALLDAYEVENT:FALSE
SUMMARY:North of Boston Book Trail at Wicked Good Books
DESCRIPTION:Start the North of Boston Book Trail at Wicked Good Books! \n\n\n\nDon't miss the 3rd annual North of Boston Book Trail Passport Challenge this Independent Bookstore Day\, April 25th and 26th\, or join the "Slow and Steady" challenge running from late April to Labor Day. Over $5\,500 in prizes! \n\n\n\nJoin us this Independent Bookstore Day for the North of Boston Book Trail\, a group of nineteen independently owned bookstores in the region North of Boston working together to bring more book lovers   both locals and tourists   into all of their shops. The Trail showcases the unique character and charm of each bookstore\, while also highlighting the diverse literary community in the area.\n\n \n\nBy working together\, these independent bookstores hope to create a greater sense of community and to foster a love of reading and books across the state. Whether you're looking for a hard-to-find book or the latest bestseller\, you're sure to find it at one of the participating stores on the Trail.
X-ALT-DESC;FMTTYPE=text/html:<div>Start the North of Boston Book Trail at Wicked Good Books!&nbsp\;<br />\n<br />\nDon&rsquo\;t miss the 3rd annual North of Boston Book Trail Passport Challenge this Independent Bookstore Day\, April 25th and 26th\, or join the &ldquo\;Slow and Steady&rdquo\; challenge running from late April to Labor Day. Over $5\,500 in prizes!&nbsp\;<br />\n<br />\nJoin us this Independent Bookstore Day for the North of Boston Book Trail\, a group of nineteen independently owned bookstores in the region North of Boston working together to bring more book lovers &ndash\; both locals and tourists &ndash\; into all of their shops. The Trail showcases the unique character and charm of each bookstore\, while also highlighting the diverse literary community in the area.</div>\n\n<div>&nbsp\;</div>\n\n<div><span style="font-size:13px">By working together\, these independent bookstores hope to create a greater sense of community and to foster a love of reading and books across the state. Whether you&rsquo\;re looking for a hard-to-find book or the latest bestseller\, you&rsquo\;re sure to find it at one of the participating stores on the Trail.</span></div>\n\n<div>&nbsp\;</div>\n\n<div>&nbsp\;</div>\n
LOCATION:Wicked Good Books 260 Essex Street Salem MA 01970
UID:e.2160.25022
SEQUENCE:3
DTSTAMP:20260420T175033Z
URL:http://www.salem-chamber.com/events/details/north-of-boston-book-trail-2026-at-wicked-good-books-25022
END:VEVENT

END:VCALENDAR
