BEGIN:VCALENDAR
VERSION:2.0
PRODID:-//ChamberMaster//Event Calendar 2.0//EN
METHOD:PUBLISH
X-PUBLISHED-TTL:P3D
REFRESH-INTERVAL:P3D
CALSCALE:GREGORIAN
BEGIN:VEVENT
DTSTART;VALUE=DATE:20171006
DTEND;VALUE=DATE:20171007
TRANSP:TRANSPARENT
X-MICROSOFT-CDO-ALLDAYEVENT:TRUE
SUMMARY:Salem Happenings - Friday
DESCRIPTION:To see what's playing\, performing or happening in Salem this weekend\, please click here!
X-ALT-DESC;FMTTYPE=text/html:To see what&#39\;s playing\, performing or happening in Salem this weekend\, <a href="http://www.creativesalem.com/events/today">please click here!</a>
LOCATION:Salem\, MA.
UID:e.2160.408
SEQUENCE:3
DTSTAMP:20260420T015730Z
URL:http://www.salem-chamber.com/events/details/live-in-salem-friday-10-06-2017-408
END:VEVENT

END:VCALENDAR
