BEGIN:VCALENDAR
VERSION:2.0
PRODID:-//ChamberMaster//Event Calendar 2.0//EN
METHOD:PUBLISH
X-PUBLISHED-TTL:P3D
REFRESH-INTERVAL:P3D
CALSCALE:GREGORIAN
BEGIN:VEVENT
DTSTART;VALUE=DATE:20231020
DTEND;VALUE=DATE:20231021
TRANSP:TRANSPARENT
X-MICROSOFT-CDO-ALLDAYEVENT:TRUE
SUMMARY:It's Just a Buncha Halloween Bash!
DESCRIPTION:TICKETS NOW ON SALE!!!\n\nThis 21+ event takes place inside the popular and local\, bar-cade: Bit Bar -  ticketed guests will get to eat\, drink\, dance\, and play games with Omri Katz\, Vinessa Shaw\, Thora Birch\, and Jason Marsden. World famous Femme-cee\, Mz Diamond Wigfall\, will host a spectacular evening of burlesque\, drag\, contests and more! PLUS\, every guest will get a professional photo op with the actors via Salem's own Witch Pix! Come in costume and prepare to dance til you drop!   \n\n\n	Doors at 8PM\n	Professional Photo Op 8pm - 9:30pm\n	\n		with another opportunity before the end of the night to accommodate all ticket holders! \n	\n	\n	Entertainment\, fun and frolic all night until 1am!
X-ALT-DESC;FMTTYPE=text/html:<p apple="" color="" font-size:="" helvetica="" liberation="" noto="" segoe="" style="box-sizing: border-box\; margin-bottom: 1.5em\; margin-top: 0px\; color: rgb(30\, 32\, 34)\; font-family: Inter\, system-ui\, -apple-system\, " ui=""><span style="box-sizing: border-box\; font-weight: bolder\;">TICKETS NOW ON SALE!!!</span><br style="box-sizing: border-box\;" />\nThis 21+ event takes place inside the popular and local\, bar-cade: Bit Bar - &nbsp\;ticketed guests will get to eat\, drink\, dance\, and play games with Omri Katz\, Vinessa Shaw\, Thora Birch\, and Jason Marsden. World famous Femme-cee\, Mz Diamond Wigfall\, will host a spectacular evening of burlesque\, drag\, contests and more! PLUS\, every guest will get a professional photo op with the actors via Salem&#39\;s own Witch Pix! Come in costume and prepare to dance til you drop! &nbsp\;&nbsp\;</p>\n\n<ul apple="" color="" font-size:="" helvetica="" liberation="" noto="" segoe="" style="box-sizing: border-box\; padding-left: 2rem\; margin-bottom: 1rem\; margin-top: 0px\; color: rgb(30\, 32\, 34)\; font-family: Inter\, system-ui\, -apple-system\, " ui="">\n	<li style="box-sizing: border-box\;">Doors at 8PM</li>\n	<li style="box-sizing: border-box\;">Professional Photo Op 8pm - 9:30pm\n	<ul style="box-sizing: border-box\; padding-left: 2rem\; margin-bottom: 0px\; margin-top: 0px\;">\n		<li style="box-sizing: border-box\;">with another opportunity before the end of the night to accommodate all ticket holders!&nbsp\;</li>\n	</ul>\n	</li>\n	<li style="box-sizing: border-box\;">Entertainment\, fun and frolic all night until 1am!&nbsp\;</li>\n</ul>\n
LOCATION:Bit Bar\, 278\, Derby Street\, Salem\, Massachusetts\, 01970
UID:e.2160.17814
SEQUENCE:3
DTSTAMP:20260426T013142Z
URL:http://www.salem-chamber.com/events/details/it-s-just-a-buncha-halloween-bash-17814
END:VEVENT

END:VCALENDAR
