BEGIN:VCALENDAR
VERSION:2.0
PRODID:-//ChamberMaster//Event Calendar 2.0//EN
METHOD:PUBLISH
X-PUBLISHED-TTL:P3D
REFRESH-INTERVAL:P3D
CALSCALE:GREGORIAN
BEGIN:VEVENT
DTSTART:20260422T233000Z
DTEND:20260423T010000Z
X-MICROSOFT-CDO-ALLDAYEVENT:FALSE
SUMMARY:Graduate Student Reading
DESCRIPTION:Join us at the annual Graduate Student Reading and discover new voices in the world of writing.
X-ALT-DESC;FMTTYPE=text/html:Join us at the annual Graduate Student Reading and discover new voices in the world of writing.
LOCATION:Ellison Campus Center 1 Meier Drive Metro Room
UID:e.2160.26233
SEQUENCE:3
DTSTAMP:20260419T164335Z
URL:http://www.salem-chamber.com/events/details/graduate-student-reading-26233
END:VEVENT

END:VCALENDAR
