BEGIN:VCALENDAR
VERSION:2.0
PRODID:-//ChamberMaster//Event Calendar 2.0//EN
METHOD:PUBLISH
X-PUBLISHED-TTL:P3D
REFRESH-INTERVAL:P3D
CALSCALE:GREGORIAN
BEGIN:VEVENT
DTSTART:20260412T170000Z
DTEND:20260412T183000Z
X-MICROSOFT-CDO-ALLDAYEVENT:FALSE
SUMMARY:Film Screening: Last Stand at Dodge
DESCRIPTION:Last Stand at Dodge follows jazz/funk band Fats Hammond\, which has played at the same Salem club every Tuesday night for 13 years. But when the band suddenly loses its residency\, how can the musicians and their loved ones move on? This documentary is a loving portrait of four musicians and their community.\n\n\n\nProducer/Director/Writer/Editor: Beth Cloutier\n\nCo-Producer: Claudia Ghetu\n\nCamera: Jessica Egmont\, Mark Killian\, Daniel Villaneuva\n\nMusic: Ken Clark\, Marty Rowan\, Scott Kesner\n\n\n\nStarring:\n\nKen Clark\, Hammond B3 organ\n\nMartin Anthony Rowen\, Hammond B3 organ\n\nMike Mele\, guitar\n\nBenny Benson\, drums
X-ALT-DESC;FMTTYPE=text/html:<br />\nLast Stand at Dodge follows jazz/funk band Fats Hammond\, which has played at the same Salem club every Tuesday night for 13 years. But when the band suddenly loses its residency\, how can the musicians and their loved ones move on? This documentary is a loving portrait of four musicians and their community.<br />\n<br />\nProducer/Director/Writer/Editor: Beth Cloutier<br />\nCo-Producer: Claudia Ghetu<br />\nCamera: Jessica Egmont\, Mark Killian\, Daniel Villaneuva<br />\nMusic: Ken Clark\, Marty Rowan\, Scott Kesner<br />\n<br />\nStarring:<br />\nKen Clark\, Hammond B3 organ<br />\nMartin Anthony Rowen\, Hammond B3 organ<br />\nMike Mele\, guitar<br />\nBenny Benson\, drums
LOCATION:Peabody Essex Museum\, 161 Essex St\, Salem\, MA 01970
UID:e.2160.25017
SEQUENCE:3
DTSTAMP:20260420T174854Z
URL:http://www.salem-chamber.com/events/details/film-screening-last-stand-at-dodge-25017
END:VEVENT

END:VCALENDAR
