BEGIN:VCALENDAR
VERSION:2.0
PRODID:-//ChamberMaster//Event Calendar 2.0//EN
METHOD:PUBLISH
X-PUBLISHED-TTL:P3D
REFRESH-INTERVAL:P3D
CALSCALE:GREGORIAN
BEGIN:VEVENT
DTSTART:20231005T210000Z
DTEND:20231005T230000Z
X-MICROSOFT-CDO-ALLDAYEVENT:FALSE
SUMMARY:ExYo 2023: SPLASH!
DESCRIPTION:ExYo 2023: SPLASH! Thursday\, September 28 Tuesday\, November 14 Carol Grillo Gallery & Desnoyers Overlook Gallery Reception: Thursday\, October 5 | 5 7 p.m. Carol Grillo Gallery & Desnoyers Overlook Gallery Featuring over 300 youth's artwork and performers\, this performance showcased their interpretations and connections to the sea. Featuring set design pieces and artwork from a performance at the Boch Center on May 25\, in collaboration with the Mass Department of Mental Health. Express Yourself is a safe and supportive environment for youth considered at-risk and young individuals with mental illness\, allowing each unique student to be immersed in visual arts\, movement\, and music\, all as a means of building a community and self-confidence. Learn more at exyo.org. Image courtesy of Express Yourself.
X-ALT-DESC;FMTTYPE=text/html:ExYo 2023: SPLASH! Thursday\, September 28&ndash\;Tuesday\, November 14 Carol Grillo Gallery &amp\; Desnoyers Overlook Gallery Reception: Thursday\, October 5 | 5&ndash\;7 p.m. Carol Grillo Gallery &amp\; Desnoyers Overlook Gallery Featuring over 300 youth&rsquo\;s artwork and performers\, this performance showcased their interpretations and connections to the sea. Featuring set design pieces and artwork from a performance at the Boch Center on May 25\, in collaboration with the Mass Department of Mental Health. Express Yourself is a safe and supportive environment for youth considered at-risk and young individuals with mental illness\, allowing each unique student to be immersed in visual arts\, movement\, and music\, all as a means of building a community and self-confidence. Learn more at exyo.org. Image courtesy of Express Yourself.
LOCATION:Manninen Center for the Arts
UID:e.2160.17771
SEQUENCE:3
DTSTAMP:20260425T190845Z
URL:http://www.salem-chamber.com/events/details/exyo-2023-splash-17771
END:VEVENT

END:VCALENDAR
