BEGIN:VCALENDAR
VERSION:2.0
PRODID:-//ChamberMaster//Event Calendar 2.0//EN
METHOD:PUBLISH
X-PUBLISHED-TTL:P3D
REFRESH-INTERVAL:P3D
CALSCALE:GREGORIAN
BEGIN:VEVENT
DTSTART:20260426T180000Z
DTEND:20260426T193000Z
X-MICROSOFT-CDO-ALLDAYEVENT:FALSE
SUMMARY:Dances in the Raw
DESCRIPTION:It's Raw! It's Real! It's FREE! Dances in the Raw peels back the curtain and offers audiences a close-up look at the artistic process. There will be a brief student recognition ceremony following the concert.
X-ALT-DESC;FMTTYPE=text/html:It&#39\;s Raw! It&#39\;s Real! It&#39\;s FREE! Dances in the Raw peels back the curtain and offers audiences a close-up look at the artistic process. There will be a brief student recognition ceremony following the concert.
LOCATION:Harrington Building Gym\, South Campus 99 Harrison Road
UID:e.2160.26235
SEQUENCE:3
DTSTAMP:20260419T163542Z
URL:http://www.salem-chamber.com/events/details/dances-in-the-raw-26235
END:VEVENT

END:VCALENDAR
