BEGIN:VCALENDAR
VERSION:2.0
PRODID:-//ChamberMaster//Event Calendar 2.0//EN
METHOD:PUBLISH
X-PUBLISHED-TTL:P3D
REFRESH-INTERVAL:P3D
CALSCALE:GREGORIAN
BEGIN:VEVENT
DTSTART:20231020T230000Z
DTEND:20231021T003000Z
X-MICROSOFT-CDO-ALLDAYEVENT:FALSE
SUMMARY:Comedy Night with Michael Petit
DESCRIPTION:Dinner and a show by the sea! Michael Petit has appeared on Comedy Central\, ESPN\, and NESN. Tickets include a dinner buffet.
X-ALT-DESC;FMTTYPE=text/html:Dinner and a show by the sea! Michael Petit has appeared on Comedy Central\, ESPN\, and NESN. Tickets include a dinner buffet.&nbsp\;
LOCATION:Misselwood Events 407 Hale Street Beverly\, MA 01915
UID:e.2160.17594
SEQUENCE:3
DTSTAMP:20260425T195937Z
URL:http://www.salem-chamber.com/events/details/comedy-night-with-michael-petit-17594
END:VEVENT

END:VCALENDAR
