BEGIN:VCALENDAR
VERSION:2.0
PRODID:-//ChamberMaster//Event Calendar 2.0//EN
METHOD:PUBLISH
X-PUBLISHED-TTL:P3D
REFRESH-INTERVAL:P3D
CALSCALE:GREGORIAN
BEGIN:VEVENT
DTSTART:20260429T220000Z
DTEND:20260430T000000Z
X-MICROSOFT-CDO-ALLDAYEVENT:FALSE
SUMMARY:Celebrate: Annual Awards Ceremony & Fundraiser
DESCRIPTION:Triangle\, Inc.\, a leading disability services provider in the North Shore and Metro North communities\, invites you to join dozens of corporate and community businesses in support of Celebrate: Triangle's Annual Fundraiser & Awards Ceremony. All proceeds from the event support the organization's programs that help 2\,700 individuals with disabilities gain employment\, connect with their communities\, and empower them to live fully engaged\, robust lives.
X-ALT-DESC;FMTTYPE=text/html:Triangle\, Inc.\, a leading disability services provider in the North Shore and Metro North communities\, invites you to join dozens of corporate and community businesses in support of Celebrate: Triangle&rsquo\;s Annual Fundraiser &amp\; Awards Ceremony. All proceeds from the event support the organization&rsquo\;s programs that help 2\,700 individuals with disabilities gain employment\, connect with their communities\, and empower them to live fully engaged\, robust lives.
LOCATION:Regattabar at The Charles Hotel 1 Bennett Street (Harvard Square) Cambridge\, MA 02138
UID:e.2160.25051
SEQUENCE:3
DTSTAMP:20260420T174800Z
URL:http://www.salem-chamber.com/events/details/celebrate-annual-awards-ceremony-fundraiser-25051
END:VEVENT

END:VCALENDAR
