BEGIN:VCALENDAR
VERSION:2.0
PRODID:-//ChamberMaster//Event Calendar 2.0//EN
METHOD:PUBLISH
X-PUBLISHED-TTL:P3D
REFRESH-INTERVAL:P3D
CALSCALE:GREGORIAN
BEGIN:VEVENT
DTSTART:20260403T143000Z
DTEND:20260403T153000Z
X-MICROSOFT-CDO-ALLDAYEVENT:FALSE
SUMMARY:A Bird is a Bird
DESCRIPTION:Join us for a reading of the book A Bird is a Bird by Lizzy Rockwell.\n\nSome birds are huge and some are tiny. Some birds are fantastically colorful and some are plain. But what do all birds share? Learn about the things that make a bird a bird\, like beaks\, feathers and wings!\n\nAfter the reading\, be sure to visit Knowing Nature: Stories of the Boreal Forest.\n\nDesigned for children (5 and under) and their caregivers\, PEM Pals aims to engage and excite all of the senses through books\, movement\, music\, art and hands-on activities. Held on the first Friday of the month at 10:30 am.
X-ALT-DESC;FMTTYPE=text/html:<div>\n<p>Join us for a reading of the book A Bird is a Bird by Lizzy Rockwell.</p>\n\n<p>Some birds are huge and some are tiny. Some birds are fantastically colorful and some are plain. But what do all birds share? Learn about the things that make a bird a bird\, like beaks\, feathers and wings!</p>\n\n<p>After the reading\, be sure to visit&nbsp\;<a href="https://www.pem.org/exhibitions/knowing-nature-stories-of-the-boreal-forest" rel="ugc" style="box-sizing: border-box\; color: rgb(99\, 58\, 251)\; text-decoration-line: none\; background-color: transparent\;" target="_blank">Knowing Nature: Stories of the Boreal Forest</a>.</p>\n\n<p>Designed for children (5 and under) and their caregivers\, PEM Pals aims to engage and excite all of the senses through books\, movement\, music\, art and hands-on activities. Held on the first Friday of the month at 10:30 am.</p>\n\n<div>&nbsp\;</div>\n</div>\n
LOCATION:Peabody Essex Museum 161 Essex St Salem\, MA 01970
UID:e.2160.25011
SEQUENCE:3
DTSTAMP:20260420T173841Z
URL:http://www.salem-chamber.com/events/details/a-bird-is-a-bird-25011
END:VEVENT

END:VCALENDAR
